{"text_format":"3","workbook":"xlsx","n_sheets":4,"sheets":["Таблица 1","Таблица 2","Таблица 3","Таблица 4"],"not_rendered":{"macros":1,"defined_names":7,"comments":4},"read":"whole","date_system":"1900"}

{"sheet":"Таблица 1","index":0,"n_rows":10,"n_cols":8,"rows_kept":10,"merged":[[2,2,2,7],[4,2,4,7],[7,6,9,6],[7,7,9,7]]}
[]
[]
[null,null,"Подготовлено редакцией АПС «Бизнес-Инфо» (ООО «Профессиональные правовые системы»)"]
[{"$nulls":7},"Таблица 1"]
[null,null,"Плановые данные о продукции "]
[]
[null,null,"Наименование продукции ","Кол-во, ед. ","Себестои-мость ед. продукции","Цена за ед. без НДС","Затраты на 1 руб. товарной продукции (план)","Прибыль на 1 руб. товарной продукции"]
[null,null,"Костюм женский брючный",{"v":1560,"d":"1,560"},{"v":350890,"d":"350,890"},{"v":456157,"d":"456,157"},{"$f":"((D8*E8)+(D9*E9)+(D10*E10))/((D8*F8)+(D9*F9)+(D10*E10))","v":0.813},{"$f":"1-G8","v":0.187}]
[null,null,"Костюм женский пляжный",{"v":2890,"d":"2,890"},{"v":291320,"d":"291,320"},{"v":378716,"d":"378,716"}]
[null,null,"Платье вечернее отрезное",{"v":1068,"d":"1,068"},{"v":395030,"d":"395,030"},{"v":513539,"d":"513,539"}]

{"sheet":"Таблица 2","index":1,"n_rows":9,"n_cols":8,"rows_kept":9,"merged":[[3,2,3,7],[6,6,8,6],[6,7,8,7]]}
[]
[]
[{"$nulls":7},"Таблица 2"]
[null,null,"Фактические данные о продукции"]
[]
[null,null,"Наименование продукции ","Кол-во, ед. ","Себестои-мость ед. продукции","Цена за ед. без НДС","Затраты на 1 руб. товарной продукции (план)","Прибыль на 1 руб. товарной продукции"]
[null,null,{"$f":"'Таблица 1'!C8","v":"Костюм женский брючный"},{"v":3850,"d":"3,850"},{"$f":"'Таблица 1'!E8/'Таблица 1'!D8*D7","v":{"v":865979,"d":"865,979"}},{"$f":"E7*1.3","v":{"v":1125773,"d":"1,125,773"}},{"$f":"((D7*E7)+(D8*E8)+(D9*E9))/((D7*F7)+(D8*E8)+(D9*E9))","v":0.806},{"$f":"1-G7","v":0.194}]
[null,null,{"$f":"'Таблица 1'!C9","v":"Костюм женский пляжный"},{"v":2890,"d":"2,890"},{"v":150020,"d":"150,020"},{"$f":"E8*1.3","v":{"v":195026,"d":"195,026"}}]
[null,null,{"$f":"'Таблица 1'!C10","v":"Платье вечернее отрезное"},{"v":1068,"d":"1,068"},{"v":370000,"d":"370,000"},{"$f":"E9*1.3","v":{"v":481000,"d":"481,000"}}]

{"sheet":"Таблица 3","index":2,"n_rows":9,"n_cols":8,"rows_kept":9,"merged":[[3,2,3,7],[6,6,8,6],[6,7,8,7]]}
[]
[]
[{"$nulls":7},"Таблица 3"]
[null,null,"Динамика показателей"]
[]
[null,null,"Наименование продукции ","Кол-во, ед. ","Себестои-мость ед. продукции","Цена за ед. без НДС","Затраты на 1 руб. товарной продукции (план)","Прибыль на 1 руб. товарной продукции"]
[null,null,{"$f":"'Таблица 1'!C8","v":"Костюм женский брючный"},{"$f":"'Таблица 2'!D7-'Таблица 1'!D8","v":{"v":2290,"d":"2,290"}},{"$f":"'Таблица 2'!E7-'Таблица 1'!E8","v":{"v":515089,"d":"515,089"}},{"$f":"'Таблица 2'!F7-'Таблица 1'!F8","v":{"v":669616,"d":"669,616"}},{"$f":"'Таблица 2'!G7-'Таблица 1'!G8","v":-0.007},{"$f":"'Таблица 2'!H7-'Таблица 1'!H8","v":0.007}]
[null,null,{"$f":"'Таблица 1'!C9","v":"Костюм женский пляжный"},{"$f":"'Таблица 2'!D8-'Таблица 1'!D9","v":0},{"$f":"'Таблица 2'!E8-'Таблица 1'!E9","v":{"v":-141300,"d":"-141,300"}},{"$f":"'Таблица 2'!F8-'Таблица 1'!F9","v":{"v":-183690,"d":"-183,690"}}]
[null,null,{"$f":"'Таблица 1'!C10","v":"Платье вечернее отрезное"},{"$f":"'Таблица 2'!D9-'Таблица 1'!D10","v":0},{"$f":"'Таблица 2'!E9-'Таблица 1'!E10","v":{"v":-25030,"d":"-25,030"}},{"$f":"'Таблица 2'!F9-'Таблица 1'!F10","v":{"v":-32539,"d":"-32,539"}}]

{"sheet":"Таблица 4","index":3,"n_rows":9,"n_cols":6,"rows_kept":9,"merged":[[3,2,3,5]]}
[]
[]
[{"$nulls":5},"Таблица 4"]
[null,null,"Расчет факторов влияния"]
[]
[null,null,"Фактор влияния","Алгоритм расчета","Коэффициент","%"]
[null,null,"Индекс затрат на рубль за счет изменения себестоимости единицы продукции",{"$f":"CONCATENATE(\"(\",\"(\",'Таблица 2'!E7,\" * \",'Таблица 2'!D7,\" + \",'Таблица 2'!E8,\" * \",'Таблица 2'!D8,\" + \",'Таблица 2'!E9,\" * \",'Таблица 2'!D9,\")\",\" / \",\"(\",'Таблица 1'!F8,\" * \",'Таблица 2'!D7,\" + \",'Таблица 1'!F9,\" * \",'Таблица 2'!D8,\" + \",'Таблица 1'!F10,\" * \",'Таблица 2'!D9,\")\",\")\",\" / \",\"(\",\"(\",'Таблица 1'!E8,\" * \",'Таблица 2'!D7,\" + \",'Таблица 1'!E9,\" * \",'Таблица 2'!D8,\" + \",'Таблица 1'!E10,\" * \",'Таблица 2'!D9,\")\",\" / \",\"(\",'Таблица 1'!F8,\" * \",'Таблица 2'!D7,\" + \",'Таблица 1'!F9,\" * \",'Таблица 2'!D8,\" + \",'Таблица 1'!F10,\" * \",'Таблица 1'!D10,\")\",\")\",\"-\",\"1\")","v":"((865979 * 3850 + 150020 * 2890 + 370000 * 1068) / (456157 * 3850 + 378716 * 2890 + 513539 * 1068)) / ((350890 * 3850 + 291320 * 2890 + 395030 * 1068) / (456157 * 3850 + 378716 * 2890 + 513539 * 1068))-1"},{"$f":"ВЫЧИСЛИТЬ.D7","v":0.592},{"$f":"E7*100","v":{"v":59.2,"d":"59.20"}}]
[null,null,"Индекс затрат на рубль за счет изменения цены",{"$f":"CONCATENATE(\"(\",\"(\",'Таблица 2'!E7,\" * \",'Таблица 2'!D7,\" + \",'Таблица 2'!E8,\" * \",'Таблица 2'!D8,\" + \",'Таблица 2'!E9,\" * \",'Таблица 2'!D9,\")\",\" / \",\"(\",'Таблица 2'!F7,\" * \",'Таблица 2'!D7,\" + \",'Таблица 2'!F8,\" * \",'Таблица 2'!D8,\" + \",'Таблица 2'!F9,\" * \",'Таблица 2'!D9,\")\",\")\",\" / \",\"(\",\"(\",'Таблица 1'!F8,\" * \",'Таблица 2'!D7,\" + \",'Таблица 1'!F9,\" * \",'Таблица 2'!D8,\" + \",'Таблица 1'!F10,\" * \",'Таблица 1'!D10,\")\",\"  /\",\"(\",'Таблица 2'!E7,\" * \",'Таблица 2'!D7,\" + \",'Таблица 2'!E8,\" * \",'Таблица 1'!D9,\" + \",'Таблица 2'!E9,\" * \",'Таблица 1'!D10,\")\",\")\",\"-\",\"1\")","v":"((865979 * 3850 + 150020 * 2890 + 370000 * 1068) / (1125773 * 3850 + 195026 * 2890 + 481000 * 1068)) / ((456157 * 3850 + 378716 * 2890 + 513539 * 1068)  /(865979 * 3850 + 150020 * 2890 + 370000 * 1068))-1"},{"$f":"ВЫЧИСЛИТЬ.D8","v":-0.058},{"$f":"E8*100","v":{"v":-5.8,"d":"-5.80"}}]
[null,null,"Общий индекс затрат на 1 рубль товарной продукции",{"$f":"CONCATENATE(\"(\",\"(\",'Таблица 2'!E7,\" * \",'Таблица 2'!D7,\" + \",'Таблица 2'!E8,\" * \",'Таблица 2'!D8,\" + \",'Таблица 2'!E9,\" * \",'Таблица 2'!D9,\")\",\" / \",\"(\",'Таблица 2'!F7,\" * \",'Таблица 2'!D7,\" + \",'Таблица 2'!F8,\" * \",'Таблица 2'!D8,\" + \",'Таблица 2'!F9,\" * \",'Таблица 2'!D9,\")\",\")\",\" * \",\"(\",\"(\",'Таблица 1'!F8,\" * \",'Таблица 2'!D7,\" + \",'Таблица 1'!F9,\" * \",'Таблица 2'!D8,\" + \",'Таблица 1'!F10,\" * \",'Таблица 1'!D10,\")\",\" / \",\"(\",'Таблица 1'!E8,\" * \",'Таблица 1'!D8,\" + \",'Таблица 1'!E9,\" * \",'Таблица 1'!D9,\" + \",'Таблица 1'!E10,\" * \",'Таблица 1'!D10,\")\",\")\",\"-\",\"1\")","v":"((865979 * 3850 + 150020 * 2890 + 370000 * 1068) / (1125773 * 3850 + 195026 * 2890 + 481000 * 1068)) * ((456157 * 3850 + 378716 * 2890 + 513539 * 1068) / (350890 * 1560 + 291320 * 2890 + 395030 * 1068))-1"},{"$f":"ВЫЧИСЛИТЬ.d9","v":0.444},{"v":44.4,"d":"44.40"}]