{"text_format":"3","workbook":"xlsx","n_sheets":19,"sheets":["Таблица 1","Таблица 2","Таблица 3","Таблица 4","Таблица 5","Таблица 6","Таблица 7","Таблица 8","Таблица 9","Таблица 10","Таблица 11","Таблица 12","Таблица 13","Таблица 14","Таблица 15","Таблица 16","Таблица 17","Таблица 18","Таблица 19"],"not_rendered":{"macros":1,"defined_names":52,"comments":15},"read":"whole","date_system":"1900"}

{"sheet":"Таблица 1","index":0,"n_rows":20,"n_cols":6,"rows_kept":20,"merged":[[2,2,2,5],[4,2,4,5],[5,4,5,5]]}
[]
[]
[null,null,"Подготовлено редакцией АПС «Бизнес-Инфо» (ООО «Профессиональные правовые системы»)"]
[{"$nulls":5},"Таблица 1"]
[null,null,"Исходные данные для проведения анализа прибыли УП «Аристо»"]
[{"$nulls":4},"(млн.руб.)"]
[null,null,"Наименование показателя","Источник данных (формы бухгалтерской отчетности, утвержденные постановлением Минфина РБ \nот 31.10.2011 № 111 (в редакции от 30.04.2012 № 25))","Прошлый год","Отчетный год"]
[null,null,"Выручка от реализации ","Строка 010 ОПУ",404,458]
[null,null,"Себестоимость реализованной продукции, товаров, работ, услуг (покупная стоимость товаров)","Строка 020 ОПУ",273,309]
[null,null,"Валовая прибыль","форма № 2 строка 040 или расчет: форма № 2 строка 010 - форма № 2 строка 030 - форма № 2 строка 011",131,149]
[null,null,"Расходы на реализацию и управленческие расходы (далее - расходы на реализацию)","Строка 040 + строка 050 ОПУ",127,130]
[null,null,"Прибыль (убыток) от реализации","Строка 060 ОПУ или (строка 030 - строка 040 - строка 050)",{"$f":"'Таблица 7'!D9","v":{"v":4.202399999999997,"d":"4"}},{"$f":"'Таблица 7'!F9","v":{"v":19.022199999999984,"d":"19"}}]
[null,null,"Среднесписочная численность, чел.","Форма статистической отчетности 1-труд",42,43]
[null,null,"Производительность труда","Выручка от реализации / среднесписочная численность",{"$f":"E8/E13","v":{"v":9.619047619047619,"d":"9.62"}},{"$f":"F8/F13","v":{"v":10.651162790697674,"d":"10.65"}}]
[null,null,"Средняя стоимость основных средств","(строка 110 ББ на начало периода + строка 110 ББ на конец периода) / 2",{"v":8.5,"d":"8.50"},8.53]
[null,null,"Фондоотдача основных средств, руб.","Выручка от реализации / средняя стоимость основных средств",{"$f":"E8/E15","v":{"v":47.529411764705884,"d":"47.53"}},{"$f":"F8/F15","v":{"v":53.692848769050414,"d":"53.69"}}]
[null,null,"Средняя стоимость товарных запасов","(строка 214 ББ на начало периода + строка 214 ББ на конец периода) / 2",{"v":17.5,"d":"17.50"},{"v":24.5,"d":"24.50"}]
[null,null,"Коэффициент оборачиваемости товарных запасов (товарооборачиваемость в днях)","Выручка от реализации / средняя стоимость товарных запасов",{"$f":"E8/E17","v":{"v":23.085714285714285,"d":"23.09"}},{"$f":"F8/F17","v":{"v":18.693877551020407,"d":"18.69"}}]
[null,null,"Сумма условно-постоянных расходов на реализацию товаров","Ведомость аналитического учета по счету 44",{"v":102.8,"d":"102.80"},{"v":105.2,"d":"105.20"}]
[null,null,"Уровень условно-переменных расходов на реализацию товаров","Сумма условно-переменных расходов (расходы на реализацию - сумма условно-постоянных расходов на реализацию товаров) / выручка от реализации х 100",5.94,5.41]

{"sheet":"Таблица 2","index":1,"n_rows":12,"n_cols":10,"rows_kept":12,"merged":[[3,2,3,9],[4,8,4,9],[5,2,6,2],[5,3,6,3],[5,4,5,6],[5,7,5,8],[5,9,6,9]]}
[]
[]
[{"$nulls":9},"Таблица 2"]
[null,null,"Информация о динамике и выполнении плана валовой прибыли УП «Аристо» за прошлый и отчетный годы"]
[{"$nulls":8},"(млн.руб.)"]
[null,null,"    Показатели","Прошлый год","Отчетный год",null,null,"Отклонение ",null,"Темп изменения, %"]
[{"$nulls":4},"план","факт","% выполне-ния плана","от плана","от прошлого года"]
[null,null,"Выручка от реализации",{"$f":"'Таблица 1'!E8","v":404},427,{"$f":"'Таблица 1'!F8","v":458},{"$f":"F8/E8*100","v":{"v":107.25995316159252,"d":"107.26"}},{"$f":"F8-E8","v":31},{"$f":"F8-D8","v":54},{"$f":"F8/D8*100","v":{"v":113.36633663366335,"d":"113.37"}}]
[null,null,"Себестоимость реализованной продукции, товаров, работ, услуг (покупная стоимость товаров)",{"$f":"'Таблица 1'!E9","v":273},290,{"$f":"'Таблица 1'!F9","v":309},{"$f":"F9/E9*100","v":{"v":106.55172413793103,"d":"106.55"}},{"$f":"F9-E9","v":19},{"$f":"F9-D9","v":36},{"$f":"F9/D9*100","v":{"v":113.18681318681318,"d":"113.19"}}]
[null,null,"В % к выручке от реализации",{"$f":"D9/D8*100","v":{"v":67.57425742574257,"d":"68"}},{"$f":"E9/E8*100","v":{"v":67.91569086651053,"d":"67.92"}},{"$f":"F9/F8*100","v":{"v":67.46724890829694,"d":"67"}},{"$f":"F10/E10*100","v":{"v":99.33970787531999,"d":"99.34"}},{"$f":"F10-E10","v":{"v":-0.4484419582135928,"d":"-0.45"}},{"$f":"F10-D10","v":{"v":-0.10700851744563522,"d":"-0.11"}},{"$f":"F10/D10*100","v":{"v":99.84164307308411,"d":"99.84"}}]
[null,null,"Валовая прибыль",{"$f":"'Таблица 1'!E10","v":131},137,{"$f":"'Таблица 1'!F10","v":149},{"$f":"F11/E11*100","v":{"v":108.75912408759123,"d":"108.76"}},{"$f":"F11-E11","v":12},{"$f":"F11-D11","v":18},{"$f":"F11/D11*100","v":{"v":113.74045801526718,"d":"113.74"}}]
[null,null,"Уровень валовой прибыли, %",{"$f":"D11/D8*100","v":{"v":32.42574257425743,"d":"32.43"}},{"$f":"E11/E8*100","v":{"v":32.08430913348946,"d":"32.08"}},{"$f":"F11/F8*100","v":{"v":32.532751091703055,"d":"32.53"}},{"$f":"F12/E12*100","v":{"v":101.3976986580818,"d":"101.40"}},{"$f":"F12-E12","v":{"v":0.4484419582135928,"d":"0.45"}},{"$f":"F12-D12","v":{"v":0.10700851744562812,"d":"0.11"}},{"$f":"F12/D12*100","v":{"v":100.33001100036667,"d":"100.33"}}]

{"sheet":"Таблица 3","index":2,"n_rows":10,"n_cols":7,"rows_kept":10,"merged":[[3,2,3,6]]}
[]
[]
[{"$nulls":6},"Таблица 3"]
[null,null,"Методика расчета влияния выручки от реализации товаров и уровня валовой прибыли на изменение суммы валовой прибыли"]
[]
[null,null,"Показатели","Прошлый год","Отчетный год","Отклонение  (гр.3 - гр.2)","Расчет влияния факторов"]
[null,null,1,2,3,4,5]
[null,null,"1. Выручка от реализации товаров","Во","В1","DВ","DВ х УВП0 / 100"]
[null,null,"2. Уровень валовой прибыли","УВП0","УВП1","DУВП","DУВП х В1 / 100"]
[null,null,"3. Сумма валовой прибыли","ВП0","ВП1","DВП","DВП"]

{"sheet":"Таблица 4","index":3,"n_rows":15,"n_cols":7,"rows_kept":15,"merged":[[3,2,3,6],[5,2,6,2],[5,3,5,4],[5,5,5,6]]}
[]
[]
[{"$nulls":6},"Таблица 4"]
[null,null,"Алгоритм расчета влияния выручки от реализации и уровня валовой прибыли на сумму валовой прибыли УП «Аристо»"]
[{"$nulls":6},"(млн.руб.)"]
[null,null,"Факторы","Влияние на выполнение плана по валовой прибыли",null,"Влияние на динамику валовой прибыли"]
[{"$nulls":3},"расчет","сумма","расчет","сумма"]
[null,null,"Изменение объема выручки в действующих ценах",{"$f":"CONCATENATE('Таблица 2'!H8,\" * \",'Таблица 2'!E12,\" / \",100)","v":"31 * 32,0843091334895 / 100"},{"$f":"ВЫЧИСЛИТЬ.е8","v":{"v":9.946135831381746,"d":"9.95"}},{"$f":"CONCATENATE('Таблица 2'!I8,\" * \",'Таблица 2'!D12,\" / \",100)","v":"54 * 32,4257425742574 / 100"},{"$f":"ВЫЧИСЛИТЬg8","v":{"v":17.509900990098995,"d":"17.51"}}]
[null,null,"Изменение среднего уровня валовой прибыли",{"$f":"CONCATENATE('Таблица 2'!$F$8,\" * \",'Таблица 2'!$H$12,\" / \",100)","v":"458 * 0,448441958213593 / 100"},{"$f":"ВЫЧИСЛИТЬ.е9","v":{"v":2.053864168618256,"d":"2.05"}},{"$f":"CONCATENATE('Таблица 2'!$F$8,\" * \",'Таблица 2'!$I$12,\" / \",100)","v":"458 * 0,107008517445628 / 100"},{"$f":"ВЫЧИСЛИТЬ.G9","v":{"v":0.49009900990097627,"d":"0.49"}}]
[null,null,"Всего","-",{"$f":"SUM(E8:E9)","v":{"v":12.000000000000002,"d":"12.00"}},"-",{"$f":"SUM(G8:G9)","v":{"v":17.99999999999997,"d":"18.00"}}]
[]
[]
[]
[]
[{"$nulls":3}," "]

{"sheet":"Таблица 5","index":4,"n_rows":16,"n_cols":7,"rows_kept":16,"merged":[[3,2,3,6],[7,2,7,6],[10,2,10,6],[13,2,13,6]]}
[]
[]
[{"$nulls":6},"Таблица 5"]
[null,null,"Методика факторного анализа суммы валовой прибыли"]
[]
[null,null,"Показатели","Прош-лый год","Отчет-ный год","Отклоне-ние    (гр.3 - гр.2)","Расчет влияния факторов"]
[null,null,1,2,3,4,5]
[null,null,"1. Обеспеченность трудовыми ресурсами и эффективность их использования"]
[null,null,"1.1. Среднесписочная численность работников","Ч0","Ч1","DЧ","DЧ х ПТ0 х УВП0 / 100"]
[null,null,"1.2. Производительность труда","ПТ0","ПТ1","DПТ","DПТ х Ч1 х УВП0 / 100"]
[null,null,"2. Обеспеченность основными средствами и эффективность их использования"]
[null,null,"2.1. Средняя стоимость основных средств","ОС0","ОС1","DОС","DОС х ФО0 х УВП0 / 100"]
[null,null,"2.2. Фондоотдача основных средств","ФО0","ФО1","DФО","DФО х ОС1 х УВП0 / 100"]
[null,null,"3. Обеспеченность товарными запасами и эффективность их использования"]
[null,null,"3.1. Средняя стоимость товарных запасов","З0","З1","DЗ","DЗ х коб0 х УВП0 / 100"]
[null,null,"3.2. Коэффициент оборачиваемости товарных запасов","коб0","коб1","Dкоб","Dкоб х З1 х УВП0 / 100"]

{"sheet":"Таблица 6","index":5,"n_rows":19,"n_cols":8,"rows_kept":19,"merged":[[3,2,3,7],[5,2,6,2],[5,3,6,3],[5,4,6,4],[5,5,6,5],[5,6,5,7],[7,2,7,7],[10,2,10,6],[11,2,11,7],[14,2,14,6],[15,2,15,7],[18,2,18,6]]}
[]
[]
[{"$nulls":7},"Таблица 6"]
[null,null,"Алгоритм расчета влияния факторов второго порядка на сумму валовой прибыли УП «Аристо»"]
[{"$nulls":7},"(млн.руб.)"]
[null,null,"Показатели","Прош-лый год","Отчет-ный год","Откло-нение","Влияние факторов"]
[{"$nulls":6},"расчет","сумма"]
[null,null,"1. Обеспеченность трудовыми ресурсами и эффективность их использования"]
[null,null,"1.1. Среднесписочная численность работников",{"$f":"'Таблица 1'!E13","v":42},{"$f":"'Таблица 1'!F13","v":43},{"$f":"E9-D9","v":1},{"$f":"CONCATENATE(F9,\" * \",D10,\" * \",'Таблица 2'!D12,\" / \",100)","v":"1 * 9,61904761904762 * 32,4257425742574 / 100"},{"$f":"вычислить.G69","v":{"v":3.119047619047617,"d":"3.12"}}]
[null,null,"1.2. Производительность труда",{"$f":"'Таблица 2'!D8/'Таблица 6'!D9","v":{"v":9.619047619047619,"d":"9.62"}},{"$f":"'Таблица 2'!F8/'Таблица 6'!E9","v":{"v":10.651162790697674,"d":"10.65"}},{"$f":"E10-D10","v":{"v":1.0321151716500552,"d":"1.03"}},{"$f":"CONCATENATE(F10,\" * \",E9,\" * \",'Таблица 2'!D12,\" / \",100)","v":"1,03211517165006 * 43 * 32,4257425742574 / 100"},{"$f":"вычислить.h10","v":{"v":14.390853371051445,"d":"14.39"}}]
[null,null,"Итого",{"$nulls":4},{"$f":"SUM(H9:H10)","v":{"v":17.509900990099062,"d":"17.51"}}]
[null,null,"2. Обеспеченность основными средствами и эффективность их использования"]
[null,null,"2.1. Среднегодовая стоимость основных средств",{"$f":"'Таблица 1'!E15","v":{"v":8.5,"d":"8.50"}},{"$f":"'Таблица 1'!F15","v":8.53},{"$f":"E13-D13","v":{"v":0.02999999999999936,"d":"0.03"}},{"$f":"CONCATENATE(F13,\" * \",D14,\" * \",'Таблица 2'!D12,\" / \",100)","v":"0,0299999999999994 * 47,5294117647059 * 32,4257425742574 / 100"},{"$f":"вычислить.h13","v":{"v":0.46235294117646114,"d":"0.46"}}]
[null,null,"2.2. Фондоотдача основных средств",{"$f":"'Таблица 2'!D8/'Таблица 6'!D13","v":{"v":47.529411764705884,"d":"47.53"}},{"$f":"'Таблица 2'!F8/'Таблица 6'!E13","v":{"v":53.692848769050414,"d":"53.69"}},{"$f":"E14-D14","v":{"v":6.16343700434453,"d":"6.16"}},{"$f":"CONCATENATE(F14,\" * \",E13,\" * \",'Таблица 2'!D12,\" / \",100)","v":"6,16343700434453 * 8,53 * 32,4257425742574 / 100"},{"$f":"вычислить.H14","v":{"v":17.047548048922533,"d":"17.05"}}]
[null,null,"Итого",{"$nulls":4},{"$f":"SUM(H13:H14)","v":{"v":17.509900990098995,"d":"17.51"}}]
[null,null,"3. Обеспеченность товарными запасами и эффективность их использования"]
[null,null,"3.1. Среднегодовая стоимость товарных запасов",{"$f":"'Таблица 1'!E17","v":{"v":17.5,"d":"17.50"}},{"$f":"'Таблица 1'!F17","v":{"v":24.5,"d":"24.50"}},{"$f":"E17-D17","v":{"v":7,"d":"7.00"}},{"$f":"CONCATENATE(F17,\" * \",D18,\" * \",'Таблица 2'!D12,\" / \",100)","v":"7 * 23,0857142857143 * 32,4257425742574 / 100"},{"$f":"вычислить.h17","v":{"v":52.39999999999999,"d":"52.40"}}]
[null,null,"3.2. Товарообора-чиваемость, дни",{"$f":"'Таблица 2'!D8/'Таблица 6'!D17","v":{"v":23.085714285714285,"d":"23.09"}},{"$f":"'Таблица 2'!F8/'Таблица 6'!E17","v":{"v":18.693877551020407,"d":"18.69"}},{"$f":"E18-D18","v":{"v":-4.391836734693879,"d":"-4.39"}},{"$f":"CONCATENATE(F18,\" * \",E17,\" * \",'Таблица 2'!D12,\" / \",100)","v":"-4,39183673469388 * 24,5 * 32,4257425742574 / 100"},{"$f":"вычислить.h18","v":{"v":-34.89009900990098,"d":"-34.89"}}]
[null,null,"Итого",{"$nulls":4},{"$f":"SUM(H17:H18)","v":{"v":17.509900990099013,"d":"17.51"}}]

{"sheet":"Таблица 7","index":6,"n_rows":15,"n_cols":10,"rows_kept":15,"merged":[[2,8,2,9],[3,2,3,9],[4,8,4,9],[5,2,6,2],[5,3,5,4],[5,5,5,6],[5,7,5,8],[5,9,6,9]]}
[]
[]
[{"$nulls":8},"Таблица 7"]
[null,null,"Информация о составе и структуре прибыли УП «Аристо» за прошлый и отчетный годы"]
[{"$nulls":8},"(млн.руб.)"]
[null,null,"    Показатели","Прошлый год",null,"Отчетный год",null,"Отклонение ",null,"Темп измене-ния, %"]
[{"$nulls":3},"сумма","удель-ный вес, %","сумма","удель-ный вес, %","сумма (гр.4 - гр.2)","удель-ный вес, %     (гр5 - гр.3)"]
[null,null,1,2,3,4,5,6,7,8]
[null,null,"Прибыль от реализации товаров, продукции",{"$f":"'Таблица 12'!D12","v":{"v":4.202399999999997,"d":"4"}},{"$f":"D9/$D$15*100","v":{"v":58.34721759413527,"d":"58.35"}},{"$f":"'Таблица 12'!E12","v":{"v":19.022199999999984,"d":"19"}},{"$f":"F9/$F$15*100","v":{"v":76.02129309173452,"d":"76.02"}},{"$f":"F9-D9","v":{"v":14.819799999999987,"d":"15"}},{"$f":"G9-E9","v":{"v":17.674075497599247,"d":"17.67"}},{"$f":"IF(D9=0,0,F9/D9*100)","v":{"v":452.6508661717113,"d":"452.65"}}]
[null,null,"Прочие доходы (расходы) по текущей деятельности",0,{"v":0,"d":"0.00"},0,{"v":0,"d":"0.00"},{"$f":"F10-D10","v":0},{"$f":"G10-E10","v":{"v":0,"d":"0.00"}},{"$f":"IF(D10=0,0,F10/D10*100)","v":{"v":0,"d":"0.00"}}]
[null,null,"Прибыль от текущей деятельности",{"$f":"D9+D10","v":{"v":4.202399999999997,"d":"4"}},{"v":58.34721759413527,"d":"58.35"},{"$f":"F9+F10","v":{"v":19.022199999999984,"d":"19"}},{"v":76.02129309173452,"d":"76.02"},{"v":14.819799999999987,"d":"15"},{"v":17.674075497599247,"d":"17.67"},{"v":452.6508661717113,"d":"452.65"}]
[null,null,"Доходы (расходы) по инвестиционной деятельности",3,{"v":41.65278240586473,"d":"41.65"},6,{"v":23.978706908265476,"d":"23.98"},3,{"v":-17.67407549759925,"d":"-17.67"},{"v":200,"d":"200.00"}]
[null,null,"Доходы (расходы) по финансовой деятельности",0,{"v":0,"d":"0.00"},0,{"v":0,"d":"0.00"},0,{"v":0,"d":"0.00"},{"v":0,"d":"0.00"}]
[null,null,"Иные доходы и расходы",0,{"v":0,"d":"0.00"},0,{"v":0,"d":"0.00"},0,{"v":0,"d":"0.00"},{"v":0,"d":"0.00"}]
[null,null,"Прибыль",{"$f":"D11+D12+D13+D14","v":{"v":7.202399999999997,"d":"7"}},{"$f":"SUM(E9:E14)","v":{"v":158.34721759413526,"d":"158.35"}},{"$f":"F11+F12+F13+F14","v":{"v":25.022199999999984,"d":"25"}},{"$f":"SUM(G9:G14)","v":{"v":176.02129309173452,"d":"176.02"}},{"v":17.819799999999987,"d":"18"},{"v":17.67407549759926,"d":"17.67"},{"v":347.4147506386759,"d":"347.41"}]

{"sheet":"Таблица 8","index":7,"n_rows":12,"n_cols":10,"rows_kept":12,"merged":[[3,2,3,9],[4,8,4,9],[5,2,6,2],[5,3,6,3],[5,4,5,6],[5,7,5,8],[5,9,6,9]]}
[]
[]
[{"$nulls":9},"Таблица 8"]
[null,null,"Информация о динамике и выполнении плана прибыли от реализации УП «Аристо» за прошлый и отчетный годы"]
[{"$nulls":8},"(млн.руб.)"]
[null,null,"Показатели","Прош-лый год","Отчетный год",null,null,"Отклонение ",null,"Темп измене-ния, %"]
[{"$nulls":4},"план","факт","% выпол-нения плана","от плана","от прошло-го года"]
[null,null,"Выручка от реализации",{"$f":"'Таблица 2'!D8","v":404},{"$f":"'Таблица 2'!E8","v":427},{"$f":"'Таблица 2'!F8","v":458},{"$f":"F8/E8*100","v":{"v":107.25995316159252,"d":"107.26"}},{"$f":"F8-E8","v":31},{"$f":"F8-D8","v":54},{"$f":"F8/D8*100","v":{"v":113.36633663366335,"d":"113.37"}}]
[null,null,"Расходы на реализацию",{"$f":"'Таблица 1'!E11","v":127},125,{"$f":"'Таблица 1'!F11","v":130},{"$f":"F9/E9*100","v":{"v":104,"d":"104.00"}},{"$f":"F9-E9","v":5},{"$f":"F9-D9","v":3},{"$f":"F9/D9*100","v":{"v":102.36220472440945,"d":"102.36"}}]
[null,null,"В % к выручке",{"$f":"D9/D8*100","v":{"v":31.435643564356436,"d":"31.44"}},{"$f":"E9/E8*100","v":{"v":29.274004683840747,"d":"29.27"}},{"$f":"F9/F8*100","v":{"v":28.38427947598253,"d":"28.38"}},{"$f":"F10/E10*100","v":{"v":96.96069868995633,"d":"96.96"}},{"$f":"F10-E10","v":{"v":-0.8897252078582163,"d":"-0.89"}},{"$f":"F10-D10","v":{"v":-3.051364088373905,"d":"-3.05"}},{"$f":"F10/D10*100","v":{"v":90.2932984905271,"d":"90.29"}}]
[null,null,"Прибыль от реализации",{"$f":"'Таблица 7'!D9","v":{"v":4.202399999999997,"d":"4"}},12,{"$f":"'Таблица 7'!F9","v":{"v":19.022199999999984,"d":"19"}},{"$f":"F11/E11*100","v":{"v":158.5183333333332,"d":"158.52"}},{"$f":"F11-E11","v":{"v":7.022199999999984,"d":"7"}},{"$f":"F11-D11","v":{"v":14.819799999999987,"d":"15"}},{"$f":"F11/D11*100","v":{"v":452.6508661717113,"d":"452.65"}}]
[null,null,"В % к выручке",{"$f":"D11/D8*100","v":{"v":1.0401980198019796,"d":"1.04"}},{"$f":"E11/E8*100","v":{"v":2.810304449648712,"d":"2.81"}},{"$f":"F11/F8*100","v":{"v":4.153318777292573,"d":"4.15"}},{"$f":"F12/E12*100","v":{"v":147.78892649199406,"d":"147.79"}},{"$f":"F12-E12","v":{"v":1.343014327643861,"d":"1.34"}},{"$f":"F12-D12","v":{"v":3.1131207574905932,"d":"3.11"}},{"$f":"F12/D12*100","v":{"v":399.28155007286324,"d":"399.28"}}]

{"sheet":"Таблица 9","index":8,"n_rows":14,"n_cols":10,"rows_kept":14,"merged":[[2,8,2,9],[3,2,3,9],[4,8,4,9],[5,2,6,2],[5,3,5,4],[5,5,5,6],[5,7,5,8],[5,9,6,9]]}
[]
[]
[{"$nulls":8},"Таблица 9"]
[null,null,"Информация о динамике источников формирования прибыли от реализации товаров и продукции УП «Аристо» за прошлый и отчетный годы"]
[{"$nulls":8},"(млн.руб.)"]
[null,null,"    Показатели","Прошлый год",null,"Отчетный год",null,"Отклонение ",null,"Темп измене-ния, %"]
[{"$nulls":3},"сумма","удель-ный вес, %","сумма","удель-ный вес, %","сумма (гр.4 - гр.2)","удель-ный вес, %        (гр.5 - гр.3)"]
[null,null,1,2,3,4,5,6,7,8]
[null,null,"1. Выручка от реализации",{"$f":"'Таблица 2'!D8","v":404},{"$f":"D9/$D$9*100","v":{"v":100,"d":"100.00"}},{"$f":"'Таблица 2'!F8","v":458},{"$f":"F9/$F$9*100","v":{"v":100,"d":"100.00"}},{"$f":"F9-D9","v":54},{"v":0,"d":"0.00"},{"$f":"F9/D9*100","v":{"v":113.36633663366335,"d":"113.37"}}]
[null,null,"2. Полная себестоимость, в т.ч.",{"$f":"SUM(D11:D12)","v":400},{"v":99.00990099009901,"d":"99.01"},{"$f":"SUM(F11:F12)","v":439},{"v":95.85152838427948,"d":"95.85"},39,{"v":-3.1583726058195367,"d":"-3.16"},{"v":109.74999999999999,"d":"109.75"}]
[null,null,"2.1. Покупная  стоимость реализованных товаров и сырья",{"$f":"'Таблица 1'!E9","v":273},{"v":67.57425742574257,"d":"67.57"},{"$f":"'Таблица 1'!F9","v":309},{"v":67.46724890829694,"d":"67.47"},36,{"v":-0.10700851744563522,"d":"-0.11"},{"v":113.18681318681318,"d":"113.19"}]
[null,null,"2.2. Расходы на реализацию товаров",{"$f":"'Таблица 1'!E11","v":127},{"v":31.435643564356436,"d":"31.44"},{"$f":"'Таблица 1'!F11","v":130},{"v":28.38427947598253,"d":"28.38"},3,{"v":-3.051364088373905,"d":"-3.05"},{"v":102.36220472440945,"d":"102.36"}]
[null,null,"3. Валовая прибыль",{"$f":"'Таблица 2'!D11","v":131},{"v":32.42574257425743,"d":"32.43"},{"$f":"'Таблица 2'!F11","v":149},{"v":32.532751091703055,"d":"32.53"},18,{"v":0.10700851744562812,"d":"0.11"},{"v":113.74045801526718,"d":"113.74"}]
[null,null,"4. Прибыль от реализации продукции и товаров",{"$f":"'Таблица 7'!D9","v":{"v":4.202399999999997,"d":"4"}},{"v":1.0401980198019796,"d":"1.04"},{"$f":"'Таблица 7'!F9","v":{"v":19.022199999999984,"d":"19"}},{"v":4.153318777292573,"d":"4.15"},{"v":14.819799999999987,"d":"15"},{"v":3.1131207574905932,"d":"3.11"},{"v":452.6508661717113,"d":"452.65"}]

{"sheet":"Таблица 10","index":9,"n_rows":11,"n_cols":7,"rows_kept":11,"merged":[[3,2,3,6],[5,2,6,2],[5,3,5,4],[5,5,5,6]]}
[]
[]
[{"$nulls":6},"Таблица 10"]
[null,null,"Алгоритм расчета влияния факторов на выполнение плана и динамику прибыли от реализации товаров и продукции УП «Аристо» за прошлый и отчетный годы"]
[{"$nulls":6},"(млн.руб.)"]
[null,null,"Наименование факторов","Влияние на выполнение плана прибыли от реализации",null,"Влияние на динамику прибыли от реализации"]
[{"$nulls":3},"расчет","сумма","расчет","сумма "]
[null,null,"Изменение общего объема выручки в действующих ценах",{"$f":"CONCATENATE('Таблица 8'!H8,\" * \",'Таблица 8'!E12,\" / \",100)","v":"31 * 2,81030444964871 / 100"},{"$f":"вычислить.Е9.10","v":{"v":0.8711943793911001,"d":"0.87"}},{"$f":"CONCATENATE('Таблица 8'!I8,\" * \",'Таблица 8'!D12,\" / \",100)","v":"54 * 1,04019801980198 / 100"},{"$f":"вычислить.G9.10","v":{"v":0.5617069306930692,"d":"0.56"}}]
[null,null,"Изменение уровня валовой прибыли",{"$f":"CONCATENATE('Таблица 2'!$F$8,\" * \",'Таблица 2'!$H$12,\" / \",100)","v":"458 * 0,448441958213593 / 100"},{"$f":"вычислить.Е10.10","v":{"v":2.053864168618256,"d":"2.05"}},{"$f":"CONCATENATE('Таблица 2'!$F$8,\" * \",'Таблица 2'!$I$12,\" / \",100)","v":"458 * 0,107008517445628 / 100"},{"$f":"вычислить.G10.10","v":{"v":0.49009900990097627,"d":"0.49"}}]
[null,null,"Изменение уровня расходов на реализацию ",{"$f":"CONCATENATE('Таблица 8'!H10,\" * \",'Таблица 8'!F8,\" / \",100)","v":"-0,889725207858216 * 458 / 100"},{"$f":"-вычислить.Е10.11","v":{"v":4.074941451990629,"d":"4.07"}},{"$f":"CONCATENATE('Таблица 8'!I10,\" * \",'Таблица 8'!F8,\" / \",100)","v":"-3,05136408837391 * 458 / 100"},{"$f":"-вычислить.G10.11","v":{"v":13.975247524752508,"d":"13.98"}}]
[null,null,"Всего","-",{"$f":"SUM(E8:E10)","v":{"v":6.999999999999985,"d":"7.00"}},"-",{"$f":"SUM(G8:G10)","v":{"v":15.027053465346553,"d":"15.03"}}]

{"sheet":"Таблица 11","index":10,"n_rows":12,"n_cols":9,"rows_kept":12,"merged":[[3,2,3,8],[5,2,6,2],[5,3,6,3],[5,4,6,4],[5,5,5,7],[5,8,6,8]]}
[]
[]
[{"$nulls":8},"Таблица 11"]
[null,null,"Методика расчета влияния выручки от реализации товаров и уровня валовой прибыли на изменение прибыли от реализации в торговле"]
[]
[null,null,"Показатели","Прошлый год","Отчет-ный год","Подстановки ",null,null,"Расчет влияния факторов"]
[{"$nulls":5},"I","II","III"]
[null,null,"1. Выручка от реализации товаров","В0","В1","В1","В1","В1","ПрI - Пр0"]
[null,null,"2. Сумма условно-постоянных расходов на реализацию товаров","РП0","РП1","РП0","РП1","РП1","ПрII - ПрI"]
[null,null,"3. Уровень условно-переменных расходов на реализацию товаров","Упер0","Упер1","Упер0","Упер0","Упер1","ПрIII - ПрII"]
[null,null,"4. Уровень валовой прибыли","УВП0","УВП1","УВП0","УВП0","УВП0","Пр1 - ПрIII"]
[null,null,"5. Прибыль от реализации товаров","Пр0","Пр1","ПрI","ПрII","ПрIII","DПр  "]

{"sheet":"Таблица 12","index":11,"n_rows":12,"n_cols":10,"rows_kept":12,"merged":[[2,8,2,9],[3,2,3,9],[4,8,4,9],[5,2,6,2],[5,3,6,3],[5,4,6,4],[5,5,5,7],[5,8,5,9]]}
[]
[]
[{"$nulls":8},"Таблица 12"]
[null,null,"Алгоритм расчета влияния факторов на динамику прибыли от реализации товаров и продукции УП «Аристо» по методике \nТолкачевой Е.Г. за прошлый и отчетный годы"]
[{"$nulls":8},"(млн.руб.)"]
[null,null,"Показатели ","Прош-лый год","Отчет- ный год","Подстановки ",null,null,"Влияние на динамику прибыли от реализации"]
[{"$nulls":5},"I","II","III","расчет","сумма"]
[null,null,"Выручка от реализации товаров и продукции",{"$f":"'Таблица 2'!D8","v":{"v":404,"d":"404.00"}},{"$f":"'Таблица 2'!F8","v":{"v":458,"d":"458.00"}},{"$f":"E8","v":458},{"$f":"E8","v":458},{"$f":"E8","v":458},{"$f":"CONCATENATE(H12,\" - \",D12)","v":"18,532100990099 - 4,2024"},{"$f":"вычислить.J12.9","v":{"v":14.329700990099,"d":"14.33"}}]
[null,null,"Сумма условно-постоянных расходов на реализацию",{"$f":"'Таблица 1'!E19","v":{"v":102.8,"d":"102.80"}},{"$f":"'Таблица 1'!F19","v":{"v":105.2,"d":"105.20"}},{"$f":"D9","v":{"v":102.8,"d":"102.80"}},{"$f":"E9","v":{"v":105.2,"d":"105.20"}},{"$f":"E9","v":{"v":105.2,"d":"105.20"}},{"$f":"CONCATENATE(G12,\" - \",F12)","v":"16,104700990099 - 18,504700990099"},{"$f":"вычислить.J12.10","v":{"v":-2.3999999999999986,"d":"-2.40"}}]
[null,null,"Уровень условно-переменных расходов на реализацию, %",{"$f":"'Таблица 1'!E20","v":5.94},{"$f":"'Таблица 1'!F20","v":5.41},{"$f":"D10","v":5.94},{"$f":"D10","v":5.94},{"$f":"E10","v":5.41},{"$f":"CONCATENATE(H12,\" - \",G12)","v":"18,532100990099 - 16,104700990099"},{"$f":"вычислить.J12.11","v":{"v":2.4273999999999987,"d":"2.43"}}]
[null,null,"Уровень валовой прибыли, % ",{"$f":"'Таблица 2'!D12","v":{"v":32.42574257425743,"d":"32.43"}},{"$f":"'Таблица 2'!F12","v":{"v":32.532751091703055,"d":"32.53"}},{"$f":"D11","v":{"v":32.42574257425743,"d":"32.43"}},{"$f":"D11","v":{"v":32.42574257425743,"d":"32.43"}},{"$f":"D11","v":{"v":32.42574257425743,"d":"32.43"}},{"$f":"CONCATENATE(E12,\"-\",F12)","v":"19,0222-18,504700990099"},{"$f":"вычислить.J12.12","v":{"v":0.5174990099010017,"d":"0.52"}}]
[null,null,"Прибыль от реализации товаров и продукции",{"$f":"D8*(D11-D10)/100-D9","v":{"v":4.202399999999997,"d":"4.20"}},{"$f":"E8*(E11-E10)/100-E9","v":{"v":19.022199999999984,"d":"19.02"}},{"$f":"F8*(F11-F10)/100-F9","v":{"v":18.50470099009901,"d":"18.50"}},{"$f":"G8*(G11-G10)/100-G9","v":{"v":16.104700990099005,"d":"16.10"}},{"$f":"H8*(H11-H10)/100-H9","v":{"v":18.53210099009901,"d":"18.53"}},{"$f":"CONCATENATE(E12,\"-\",D12)","v":"19,0222-4,2024"},{"$f":"вычислить.J12.13","v":{"v":14.8198,"d":"14.82"}}]

{"sheet":"Таблица 13","index":12,"n_rows":23,"n_cols":7,"rows_kept":23,"merged":[[2,5,2,6],[3,2,3,6]]}
[]
[]
[{"$nulls":5},"Таблица 13"]
[null,null,"Информация о динамике рентабельности УП «Аристо» за прошлый и отчетный годы"]
[]
[null,null,"Показатели","Прош- лый год","Отчет- ный год","Откло-нение","Темп измене- ния, %"]
[null,null,"Прибыль, млн.руб.",{"$f":"'Таблица 7'!D15","v":{"v":7.202399999999997,"d":"7"}},{"$f":"'Таблица 7'!F15","v":{"v":25.022199999999984,"d":"25"}},{"$f":"E7-D7","v":{"v":17.819799999999987,"d":"18"}},{"$f":"E7/D7*100","v":{"v":347.4147506386759,"d":"347.41"}}]
[null,null,"Объем реализации товаров, продукции в действующих ценах, млн.руб.",{"$f":"'Таблица 2'!D8","v":404},{"$f":"'Таблица 2'!F8","v":458},54,{"v":113.36633663366335,"d":"113.37"}]
[null,null,"Рентабельность общая, %",{"$f":"D7/D8*100","v":{"v":1.7827722772277221,"d":"1.78"}},{"$f":"E7/E8*100","v":{"v":5.463362445414843,"d":"5.46"}},{"v":3.6805901681871207,"d":"3.68"},{"v":306.4531861528931,"d":"306.45"}]
[null,null,"Расходы на реализацию, млн.руб.",{"$f":"'Таблица 9'!D12","v":127},{"$f":"'Таблица 9'!F12","v":130},3,{"v":102.36220472440945,"d":"102.36"}]
[null,null,"Рентабельность текущих затрат, %",{"$f":"D7/D10*100","v":{"v":5.671181102362203,"d":"5.67"}},{"$f":"E7/E10*100","v":{"v":19.24784615384614,"d":"19.25"}},{"v":13.576665051483937,"d":"13.58"},{"v":339.3974871623987,"d":"339.40"}]
[null,null,"Среднегодовая стоимость активов (совокупного капитала), млн.руб.",{"v":91.5,"d":"91.50"},{"v":109.5,"d":"109.50"},{"v":18,"d":"18.00"},{"v":119.67213114754098,"d":"119.67"}]
[null,null,"Рентабельность активов (совокупного капитала), %",{"$f":"D7/D12*100","v":{"v":7.871475409836062,"d":"7.87"}},{"$f":"E7/E12*100","v":{"v":22.85132420091323,"d":"22.85"}},{"v":14.979848791077167,"d":"14.98"},{"v":290.30547656108536,"d":"290.31"}]
[null,null,"Среднегодовая стоимость внеоборотных активов, млн.руб.",{"v":8.5,"d":"8.50"},{"v":8.5,"d":"8.50"},{"v":0,"d":"0.00"},{"v":100,"d":"100.00"}]
[null,null,"Рентабельность внеоборотных активов, %",{"$f":"D7/D14*100","v":{"v":84.7341176470588,"d":"84.73"}},{"$f":"E7/E14*100","v":{"v":294.3788235294116,"d":"294.38"}},{"v":209.6447058823528,"d":"209.64"},{"v":347.4147506386759,"d":"347.41"}]
[null,null,"Среднегодовая стоимость оборотных активов, млн.руб.",83,101,18,{"v":121.6867469879518,"d":"121.69"}]
[null,null,"Рентабельность оборотных активов, %",{"$f":"D7/D16*100","v":{"v":8.677590361445779,"d":"8.68"}},{"$f":"E7/E16*100","v":{"v":24.77445544554454,"d":"24.77"}},{"v":16.09686508409876,"d":"16.10"},{"v":285.4992505248525,"d":"285.50"}]
[null,null,"Собственный капитал, млн.руб.",{"v":-56.5,"d":"-56.50"},{"v":-29.5,"d":"-29.50"},{"v":27,"d":"27.00"},{"v":52.21238938053098,"d":"52.21"}]
[null,null,"Рентабельность собственного капитала, %",{"$f":"D18/D7*100","v":{"v":-784.4607353104524,"d":"-784.46"}},{"$f":"E18/E7*100","v":{"v":-117.89530896563858,"d":"-117.90"}},{"v":666.5654263448138,"d":"666.57"},{"v":15.028834925559556,"d":"15.03"}]
[null,null,"Средства на оплату труда, млн.руб.",137,142,5,{"v":103.64963503649636,"d":"103.65"}]
[null,null,"Рентабельность средств на оплату труда, %",{"$f":"D7/D20*100","v":{"v":5.2572262773722604,"d":"5.26"}},{"$f":"E7/E20*100","v":{"v":17.621267605633793,"d":"17.62"}},{"v":12.364041328261532,"d":"12.36"},{"v":335.18183688379304,"d":"335.18"}]
[null,null,"Среднесписочная численность, чел.",{"$f":"'Таблица 6'!D9","v":42},{"$f":"'Таблица 6'!E9","v":43},1,{"v":102.38095238095238,"d":"102.38"}]
[null,null,"Прибыль на 1 сотрудника, млн.руб.",{"$f":"D7/D22","v":{"v":0.1714857142857142,"d":"0.17"}},{"$f":"E7/E22","v":{"v":0.5819116279069764,"d":"0.58"}},{"v":0.41042591362126213,"d":"0.41"},{"v":339.3353378331253,"d":"339.34"}]

{"sheet":"Таблица 14","index":13,"n_rows":15,"n_cols":7,"rows_kept":15,"merged":[[2,5,2,6],[3,2,3,6]]}
[]
[]
[{"$nulls":5},"Таблица 14"]
[null,null,"Информация о динамике рентабельности УП «Аристо» за прошлый и отчетный годы"]
[{"$nulls":6},"(млн.руб.)"]
[null,null,"Показатели","Прош- лый год","Отчет- ный год","Откло-нение (гр.3 - гр.2)","Темп измене- ния, %"]
[null,null,1,2,3,4,5]
[null,null,"1. Выручка от реализации",{"$f":"'Таблица 2'!D8","v":404},{"$f":"'Таблица 2'!F8","v":458},{"$f":"E8-D8","v":54},{"$f":"E8/D8*100","v":{"v":113.36633663366335,"d":"113.37"}}]
[null,null,"2. Полная себестоимость, в т.ч.",{"$f":"'Таблица 9'!D10","v":400},{"$f":"'Таблица 9'!F10","v":439},{"$f":"E9-D9","v":39},{"$f":"E9/D9*100","v":{"v":109.74999999999999,"d":"109.75"}}]
[null,null,"2.1. Расходы на реализацию товаров",{"$f":"'Таблица 9'!D12","v":127},{"$f":"'Таблица 9'!F12","v":130},{"$f":"E10-D10","v":3},{"$f":"E10/D10*100","v":{"v":102.36220472440945,"d":"102.36"}}]
[null,null,"3. Прибыль от реализации ",{"$f":"'Таблица 12'!D12","v":{"v":4.202399999999997,"d":"4"}},{"$f":"'Таблица 12'!E12","v":{"v":19.022199999999984,"d":"19"}},{"$f":"E11-D11","v":{"v":14.819799999999987,"d":"15"}},{"$f":"E11/D11*100","v":{"v":452.6508661717113,"d":"452.65"}}]
[null,null,"4. Показатели рентабельности, %"]
[null,null,"4.1. Рентабельность продаж (стр.3 / стр.1 х 100)",{"$f":"D11/D8*100","v":{"v":1.0401980198019796,"d":"1.04"}},{"$f":"E11/E8*100","v":{"v":4.153318777292573,"d":"4.15"}},{"$f":"E13-D13","v":{"v":3.1131207574905932,"d":"3.11"}},{"$f":"E13/D13*100","v":{"v":399.28155007286324,"d":"399.28"}}]
[null,null,"4.2 Рентабельность совокупных расходов \n(стр.3 / стр.2 х 100)",{"$f":"D11/D9*100","v":{"v":1.0505999999999993,"d":"1.05"}},{"$f":"E11/E9*100","v":{"v":4.333075170842821,"d":"4.33"}},{"$f":"E14-D14","v":{"v":3.2824751708428215,"d":"3.28"}},{"$f":"E14/D14*100","v":{"v":412.4381468534954,"d":"412.44"}}]
[null,null,"4.3. Рентабельность текущих затрат (или расходов на реализацию) (стр.3 / стр.2.1 х 100)",{"$f":"D11/D10*100","v":{"v":3.3089763779527535,"d":"3.31"}},{"$f":"E11/E10*100","v":{"v":14.632461538461525,"d":"14.63"}},{"$f":"E15-D15","v":{"v":11.323485160508772,"d":"11.32"}},{"$f":"E15/D15*100","v":{"v":442.20507695236415,"d":"442.21"}}]

{"sheet":"Таблица 15","index":14,"n_rows":11,"n_cols":6,"rows_kept":11,"merged":[[3,2,3,5]]}
[]
[]
[{"$nulls":5},"Таблица 15"]
[null,null,"Методика расчета влияния выручки от реализации товаров, уровня валовой прибыли и условно-переменных расходов, суммы условно-постоянных расходов на изменение рентабельности продаж"]
[]
[null,null,"Показатели","Прошлый год","Отчетный год","Расчет влияния факторов"]
[null,null,"1. Выручка от реализации товаров","В0","В1","ΔРПР(В) = (В1 х (УВП0 - Упер0) / 100 - Рn0) х 100 / В1 - (В0 х (УВП0 - Упер0) / 100 - Рn0) х 100 / В0"]
[null,null,"2. Уровень валовой прибыли","УВП0","УВП1","ΔРПР(УВП) = (В1 х (УВП1 - Упер0) / 100 - Рn0) х 100  / В1 - (В1 х (УВП0 - Упер0) / 100 - Рn0) х 100 / В1"]
[null,null,"3. Уровень условно-переменных расходов на реализацию товаров","Упер0","Упер1","ΔРПР(Упер) = (В1 х (УВП1 - Упер1) / 100 - Рn0) х 100 / В1 - (В1 х (УВП1 - Упер0) / 100 - Рn0) х 100 / В1"]
[null,null,"4. Сумма условно-постоянных расходов на реализацию товаров","Рп0","Рп1","ΔРПР(Рn) = (В1 х (УВП1 - Упер1) / 100 - Рn1) х 100 / В1 - (В1 х (УВП1 - Упер1) / 100 - Рn0) х 100 / В1"]
[null,null,"5. Рентабельность продаж, %","РПР0","РПР1","ΔРПР = ΔРПР(В) + ΔРПР(УВП) - ΔРПР(Упер) - ΔРПР(Рn)"]

{"sheet":"Таблица 16","index":15,"n_rows":12,"n_cols":7,"rows_kept":12,"merged":[[2,5,2,6],[3,2,3,6],[5,2,6,2],[5,3,6,3],[5,4,6,4],[5,5,5,6]]}
[]
[]
[{"$nulls":5},"Таблица 16"]
[null,null,"Методика расчета влияния выручки от реализации товаров, уровня валовой прибыли и условно-переменных расходов, суммы условно-постоянных расходов на изменение рентабельности продаж \nУП «Аристо» за прошлый и отчетный годы"]
[]
[null,null,"Показатели","Прош-лый год","Отчет- ный год","Влияние факторов на рентабельность продаж"]
[{"$nulls":5},"расчет (ΔРПР(В))","итог"]
[null,null,"1. Выручка от реализации товаров (В), млн.руб.",{"$f":"'Таблица 2'!D8","v":404},{"$f":"'Таблица 2'!F8","v":458},{"$f":"CONCATENATE(\"(\",$E$8,\" * \",\"(\",$D$9,\" - \",$D$10,\")\",\" / \",100,\" - \",$D$11,\")\",\" / \",$E$8,\" * \",100,\" - \",\"(\",$D$8,\" * \",\"(\",$D$9,\" - \",$D$10,\")\",\" / \",100,\" - \",$D$11,\")\",\" / \",$D$8,\" * \",100)","v":"(458 * (32,4257425742574 - 5,94) / 100 - 102,8) / 458 * 100 - (404 * (32,4257425742574 - 5,94) / 100 - 102,8) / 404 * 100"},{"$f":"вычислить.g16.8","v":{"v":3.000129707293871,"d":"3.00"}}]
[null,null,"2. Уровень валовой прибыли (УВП), %",{"$f":"'Таблица 2'!D12","v":{"v":32.42574257425743,"d":"32.43"}},{"$f":"'Таблица 2'!F12","v":{"v":32.532751091703055,"d":"32.53"}},{"$f":"CONCATENATE(\"(\",$E$8,\" * \",\"(\",$E$9,\" - \",$D$10,\")\",\" / \",100,\" - \",$D$11,\")\",\" / \",$E$8,\" * \",100,\" - \",\"(\",$E$8,\" * \",\"(\",$D$9,\" - \",$D$10,\")\",\" / \",100,\" - \",$D$11,\")\",\" / \",$E$8,\" * \",100)","v":"(458 * (32,5327510917031 - 5,94) / 100 - 102,8) / 458 * 100 - (458 * (32,4257425742574 - 5,94) / 100 - 102,8) / 458 * 100"},{"$f":"вычислить.g16.9","v":{"v":0.10700851744569917,"d":"0.11"}}]
[null,null,"3. Уровень условно-переменных расходов на реализацию товаров (Упер), %",{"$f":"'Таблица 12'!D10","v":5.94},{"$f":"'Таблица 12'!E10","v":5.41},{"$f":"CONCATENATE(\"(\",$E$8,\" * \",\"(\",$E$9,\" - \",$E$10,\")\",\" / \",100,\" - \",$D$11,\")\",\" / \",$E$8,\" * \",100,\" - \",\"(\",$E$8,\" * \",\"(\",$E$9,\" - \",$D$10,\")\",\" / \",100,\" - \",$D$11,\")\",\" / \",$E$8,\" * \",100)","v":"(458 * (32,5327510917031 - 5,41) / 100 - 102,8) / 458 * 100 - (458 * (32,5327510917031 - 5,94) / 100 - 102,8) / 458 * 100"},{"$f":"вычислить.g16.10","v":{"v":0.5300000000000038,"d":"0.53"}}]
[null,null,"4. Сумма условно-постоянных расходов на реализацию товаров (Рп), млн.руб.",{"$f":"'Таблица 12'!D9","v":{"v":102.8,"d":"102.80"}},{"$f":"'Таблица 12'!E9","v":{"v":105.2,"d":"105.20"}},{"$f":"CONCATENATE(\"(\",$E$8,\" * \",\"(\",$E$9,\" - \",$E$10,\")\",\" / \",100,\" - \",$E$11,\")\",\" / \",$E$8,\" * \",100,\" - \",\"(\",$E$8,\" * \",\"(\",$E$9,\" - \",$E$10,\")\",\" / \",100,\" - \",$D$11,\")\",\" / \",$E$8,\" * \",100)","v":"(458 * (32,5327510917031 - 5,41) / 100 - 105,2) / 458 * 100 - (458 * (32,5327510917031 - 5,41) / 100 - 102,8) / 458 * 100"},{"$f":"вычислить.g16.11","v":{"v":-0.5240174672489095,"d":"-0.52"}}]
[null,null,"5. Рентабельность продаж (Рпр), %",{"$f":"'Таблица 14'!D13","v":{"v":1.0401980198019796,"d":"1.04"}},{"$f":"'Таблица 14'!E13","v":{"v":4.153318777292573,"d":"4.15"}},{"$f":"CONCATENATE(\"(\",G8,\")\",\" + \",\"(\",G9,\")\",\" + \",\"(\",G10,\")\",\" + \",\"(\",G11,\")\")","v":"(3,00012970729387) + (0,107008517445699) + (0,530000000000004) + (-0,52401746724891)"},{"$f":"вычислить.G16.12","v":{"v":3.113120757490663,"d":"3.11"}}]

{"sheet":"Таблица 17","index":16,"n_rows":15,"n_cols":8,"rows_kept":15,"merged":[[2,6,2,7],[3,2,3,7],[5,6,5,7],[6,6,6,7],[7,6,7,7],[8,6,8,7],[9,6,9,7],[11,2,11,6],[12,2,12,7],[13,3,13,5],[14,3,14,5]]}
[]
[]
[{"$nulls":6},"Таблица 17"]
[null,null,"Информация для расчета планируемой рентабельности продаж \nУП «Аристо» по методу скользящей средней"]
[]
[null,null,"Период (полугодие)","Выручка от реализации, млн.руб.","Прибыль от реализации, млн.руб.","Рентабельность продаж, %","Выровненные показатели рентабельности продаж (Рпр), %"]
[null,null,"1-е полугодие прошлого года",204.58,0.58,{"$f":"E7/D7*100","v":{"v":0.2835076742594584,"d":"0.28"}},"х"]
[null,null,"2-е полугодие прошлого года",{"$f":"'Таблица 12'!D8-'Таблица 17'!D7","v":199.42},{"$f":"'Таблица 12'!D12-'Таблица 17'!E7","v":{"v":3.622399999999997,"d":"3.62"}},{"$f":"E8/D8*100","v":{"v":1.816467756493831,"d":"1.82"}},{"$f":"(F8+F7)/2","v":{"v":1.0499877153766446,"d":"1.05"}}]
[null,null,"1-е полугодие отчетного года",{"v":209.2,"d":"209.20"},3.53,{"$f":"E9/D9*100","v":{"v":1.6873804971319313,"d":"1.69"}},{"$f":"(F9+F8)/2","v":{"v":1.7519241268128811,"d":"1.75"}}]
[null,null,"2-е полугодие отчетного года",{"$f":"'Таблица 12'!E8-'Таблица 17'!D9","v":{"v":248.8,"d":"248.80"}},{"$f":"'Таблица 12'!E12-'Таблица 17'!E9","v":{"v":15.492199999999984,"d":"15.49"}},{"$f":"E10/D10*100","v":{"v":6.226768488745974,"d":"6.23"}},{"$f":"(F10+F9)/2","v":{"v":3.9570744929389527,"d":"3.96"}}]
[]
[null,null,"Количество рассчитанных значений выровненного показателя рентабельности продаж",{"$nulls":4},{"$f":"COUNT(G8,G9,G10)","v":3}]
[null,null,"Ожидаемая рентабельность продаж (Рпр) УП «Аристо» на следующий период, %"]
[null,null,"Прирост Рпр =",{"$f":"CONCATENATE(\"(\",G10,\" - \",G8,\")\",\" / \",\"(\",H12,\" - \",1,\")\")","v":"(3,95707449293895 - 1,04998771537664) / (3 - 1)"},null,null,"=",{"$f":"вычислить.h17.16","v":{"v":1.453543388781155,"d":"1.45"}}]
[null,null,"Рпр.след.период =",{"$f":"CONCATENATE(G10,\" + \",H14)","v":"3,95707449293895 + 1,45354338878116"},null,null,"=",{"$f":"вычислить.h17.21","v":{"v":5.4106178817201105,"d":"5.41"}}]

{"sheet":"Таблица 18","index":17,"n_rows":40,"n_cols":11,"rows_kept":40,"merged":[[3,2,3,10],[5,2,5,4],[5,5,5,7],[5,8,5,10],[6,2,6,4],[6,5,6,7],[6,8,6,10],[7,2,7,4],[7,5,7,7],[7,8,7,10],[8,2,8,4],[8,5,8,7],[8,8,8,10],[9,2,9,4],[9,5,9,7],[9,8,9,10],[12,2,12,3],[13,2,13,3],[15,2,15,7],[15,9,15,10],[16,2,16,4],[21,2,21,10],[25,2,25,9],[26,2,26,4],[26,5,26,7],[28,2,28,4],[28,5,28,7],[30,2,30,3],[30,4,30,6],[32,2,32,10],[33,2,33,4],[33,5,33,9],[34,2,34,10],[35,6,35,9],[37,2,37,10],[38,2,38,6],[39,2,39,9]]}
[]
[]
[{"$nulls":10},"Таблица 18"]
[null,null,"Информация для расчета планируемой суммы прибыли от реализации продукции и товаров по методу экстремумов"]
[{"$nulls":10},"(млн.руб.)"]
[null,null,"Период ",null,null,"Прибыль от реализации продукции и товаров",null,null,"Условные обозначения"]
[null,null,"1-е полугодие прошлого года",null,null,{"$f":"'Таблица 17'!E7","v":0.58},null,null,"Y1"]
[null,null,"2-е полугодие прошлого года",null,null,{"$f":"'Таблица 17'!E8","v":{"v":3.622399999999997,"d":"3.62"}},null,null,"Y2"]
[null,null,"1-е полугодие отчетного года",null,null,{"$f":"'Таблица 17'!E9","v":3.53},null,null,"Y3"]
[null,null,"2-е полугодие отчетного года",null,null,{"$f":"'Таблица 17'!E10","v":{"v":15.492199999999984,"d":"15.49"}},null,null,"Y4"]
[]
[]
[null,null,"   Y1 = a + b, ",null,{"$f":"F7","v":0.58},"= a + b,"]
[null,null,"   Yn = an + b",null,{"$f":"F10","v":{"v":15.492199999999984,"d":"15.49"}},"= 4a + b"]
[]
[null,null,"Для упрощения расчетов умножим первое уравнение на ",{"$nulls":5},-4,", после чего  "]
[null,null,"система примет вид:"]
[]
[{"$nulls":3},{"$f":"E13*I16","v":-2.32},"=",{"$f":"I16","v":-4},"а",{"$f":"I16","v":-4},"b"]
[{"$nulls":3},{"$f":"E14","v":{"v":15.492199999999984,"d":"15.49"}},"=",{"$f":"4","v":4},"а +",{"$f":"1","v":1},"b"]
[]
[null,null,"Затем, прибавив к первому уравнению второе, получим:"]
[{"$nulls":3},{"$f":"D20+D19","v":{"v":13.172199999999984,"d":"13.17"}}," =",{"$f":"F20+F19","v":0},{"$f":"H19+H20","v":-3},"b"]
[{"$nulls":3},"b"," =",{"$f":"D23/G23","v":{"v":-4.390733333333328,"d":"-4.4"}}]
[{"$nulls":3},"a"," =",{"$f":"E13-F24","v":{"v":4.970733333333328,"d":"5.0"}}]
[null,null,"Ожидаемая прибыль от реализации (Пр) УП «Аристо» на следующий период"]
[null,null,"Пр.1-го полугодия след.период:"]
[null,null,{"$f":"F25","v":{"v":4.970733333333328,"d":"5.0"}},"х",5,"+",{"$f":"F24","v":{"v":-4.390733333333328,"d":"-4.4"}}," =",{"$f":"C28*E28+G28","v":{"v":20.46293333333331,"d":"20.5"}},"млн.руб."]
[null,null,"Пр.2-го полугодия след.период:"]
[null,null,{"$f":"F25","v":{"v":4.970733333333328,"d":"5.0"}},"х",6,"+",{"$f":"F24","v":{"v":-4.390733333333328,"d":"-4.4"}},"=",{"$f":"C30*E30+G30","v":{"v":25.43366666666664,"d":"25.4"}},"млн.руб."]
[null,null,"Пр.след.период:"]
[null,null,{"$f":"I28","v":{"v":20.46293333333331,"d":"20.5"}},"+",{"$f":"I30","v":{"v":25.43366666666664,"d":"25.4"}},"=",{"$f":"C32+E32","v":{"v":45.89659999999995,"d":"45.9"}},"млн.руб."]
[null,null,"Расчет точки безубыточности (млн.руб.):"]
[null,null,"Вбезубыт = Pп / (УВП - Упер) = ",null,null,{"$f":"CONCATENATE('Таблица 16'!E11,\" / \",\"(\",'Таблица 16'!E9,\" / \",100,\" - \",'Таблица 16'!E10,\" / \",100,\")\")","v":"105,2 / (32,5327510917031 / 100 - 5,41 / 100)"},{"$nulls":4},{"$f":"вычислить.К18.41","v":{"v":387.8662590100636,"d":"387.9"}}]
[null,null,"Расчет запаса прочности, %:"]
[null,null,"ЗФБ = (Вфакт - Вбезубыт) / Вфакт х 100 = ",{"$nulls":3},{"$f":"CONCATENATE(\"(\",'Таблица 16'!E8,\" - \",K34,\")\",\" / \",'Таблица 16'!E8,\" * \",100)","v":"(458 - 387,866259010064) / 458 * 100"},{"$nulls":3},{"$f":"вычислить.К18.43","v":{"v":15.313043884265495,"d":"15.31"}}]
[]
[null,null,"Сумма выручки от реализации, которая обеспечивает организации необходимую (прогнозную) сумму прибыли от реализации товаров:"]
[null,null,"Впрогн.след.год = (Рп + НП) / (УВП - Упер), млн.руб.:  "]
[null,null,{"$f":"CONCATENATE(\"(\",'Таблица 16'!$E$11,\" + \",\"(\",'Таблица 16'!$E$8,\" * \",'Таблица 17'!$H$15,\" / \",100,\")\",\")\",\" / \",\"(\",'Таблица 16'!$E$9,\" / \",100,\" - \",'Таблица 16'!$E$10,\" / \",100,\")\")","v":"(105,2 + (458 * 5,41061788172011 / 100)) / (32,5327510917031 / 100 - 5,41 / 100)"},{"$nulls":7},{"$f":"вычислить.к18.40","v":{"v":479.23099488989305,"d":"479.23"}}]

{"sheet":"Таблица 19","index":18,"n_rows":15,"n_cols":7,"rows_kept":15,"merged":[[3,2,3,6],[5,2,7,2],[5,3,5,4],[5,5,6,6],[6,3,7,3],[6,4,7,4],[12,2,12,6]]}
[]
[]
[{"$nulls":6},"Таблица 19"]
[null,null,"Планирование рентабельности продаж УП «Аристо» с использованием расчетно-аналитического метода"]
[]
[null,null,"Период (год)","Рентабельность продаж",null,"Годовой уровень прибыли от реализации к уровню прибыли от реализации за 6 месяцев"]
[{"$nulls":3},"за год","за полугодие (6 месяцев)"]
[{"$nulls":5},"расчет ","итог"]
[null,null,"Предшествующий",0.99,1.69,{"$f":"CONCATENATE(D9,\" * \",100,\" / \",E9)","v":"0,99 * 100 / 1,69"},{"$f":"вычислить.G19.9","v":{"v":58.57988165680474,"d":"58.58"}}]
[null,null,"Прошлый",{"$f":"'Таблица 14'!D13","v":{"v":1.0401980198019796,"d":"1.04"}},{"$f":"'Таблица 17'!F8","v":{"v":1.816467756493831,"d":"1.82"}},{"$f":"CONCATENATE(D10,\" * \",100,\" / \",E10)","v":"1,04019801980198 * 100 / 1,81646775649383"},{"$f":"вычислить.g19.10","v":{"v":57.264876631214406,"d":"57.26"}}]
[null,null,"Отчетный",{"$f":"'Таблица 14'!E13","v":{"v":4.153318777292573,"d":"4.15"}},{"$f":"'Таблица 17'!F10","v":{"v":6.226768488745974,"d":"6.23"}},"-","-"]
[]
[null,null,"Ожидаемая рентабельность продаж (Рпр) УП «Аристо» на следующий период:"]
[null,null,"Рпр.след.период = (",{"$f":"G9","v":{"v":58.57988165680474,"d":"58.58"}},"+",{"$f":"G10","v":{"v":57.264876631214406,"d":"57.26"}},") / 2 х "]
[{"$nulls":3},{"$f":"E11","v":{"v":6.226768488745974,"d":"6.23"}},"/ 100   =",{"$f":"(D14+F14)/2*D15/100","v":{"v":3.6066924524711577,"d":"3.61"}}]